BEGIN:VCALENDAR
VERSION:2.0
PRODID:GlueUp
CALSCALE:GREGORIAN
BEGIN:VTIMEZONE
TZID:UTC
BEGIN:STANDARD
DTSTART:19700101T000000
TZOFFSETFROM:+0000
TZOFFSETTO:+0000
TZNAME:UTC
END:STANDARD
END:VTIMEZONE
BEGIN:VEVENT
TZ:+00
ORGANIZER;CN=王鑫磊:MAILTO:xlwang@wta-web.org
UID:34185-1777038909@https://wta.glueup.cn
DTSTAMP:20260424T135509Z
DTSTART:20211118T010000Z
DTEND:20211121T120000Z
SUMMARY:2021 世界旅游联盟 · 北大湖对话
DESCRIPTION:World Tourism Alliance发布活动2021 世界旅游联盟 · 北大湖对话\n\n11月 18 - 21，2021(GMT+8)\n\n更多信息，访问https://wta.glueup.cn/my/events/34185
LOCATION:
BEGIN:VALARM
TRIGGER:-PT48H
REPEAT:4
DURATION:PT30M
ACTION:DISPLAY
END:VALARM
END:VEVENT
END:VCALENDAR