BEGIN:VCALENDAR
VERSION:2.0
PRODID:GlueUp
CALSCALE:GREGORIAN
BEGIN:VTIMEZONE
TZID:UTC
BEGIN:STANDARD
DTSTART:19700101T000000
TZOFFSETFROM:+0000
TZOFFSETTO:+0000
TZNAME:UTC
END:STANDARD
END:VTIMEZONE
BEGIN:VEVENT
TZ:+00
ORGANIZER;CN=Ruiqing Fan:MAILTO:rqfan@wta-web.org
UID:33918-1777039003@https://wta.glueup.cn
DTSTAMP:20260424T135643Z
DTSTART:20211020T063000Z
DTEND:20211020T083000Z
SUMMARY:2021世界旅游联盟研究成果新闻发布会
DESCRIPTION:World Tourism Alliance发布活动2021世界旅游联盟研究成果新闻发布会\n\n2021年10月20日（14:30 - 16:30）(GMT+8)\n\n更多信息，访问https://wta.glueup.cn/my/events/33918
LOCATION:北京国际饭店会议中心5号厅 - 中国北京市建国门内大街 9号
BEGIN:VALARM
TRIGGER:-PT48H
REPEAT:4
DURATION:PT30M
ACTION:DISPLAY
END:VALARM
END:VEVENT
END:VCALENDAR