BEGIN:VCALENDAR
VERSION:2.0
PRODID:GlueUp
CALSCALE:GREGORIAN
BEGIN:VTIMEZONE
TZID:UTC
BEGIN:STANDARD
DTSTART:19700101T000000
TZOFFSETFROM:+0000
TZOFFSETTO:+0000
TZNAME:UTC
END:STANDARD
END:VTIMEZONE
BEGIN:VEVENT
TZ:+00
ORGANIZER;CN=王鑫磊:MAILTO:xlwang@wta-web.org
UID:38482-1777038911@https://wta.glueup.cn
DTSTAMP:20260424T135511Z
DTSTART:20221117T160001Z
DTEND:20221120T160001Z
SUMMARY:2022世界旅游联盟·北大湖对话
DESCRIPTION:World Tourism Alliance发布活动2022世界旅游联盟·北大湖对话\n\n11月 18 - 21，2022(GMT+8)\n\n更多信息，访问https://wta.glueup.cn/my/events/38482
LOCATION:北大湖滑雪度假区 - 中国吉林省吉林市
BEGIN:VALARM
TRIGGER:-PT48H
REPEAT:4
DURATION:PT30M
ACTION:DISPLAY
END:VALARM
END:VEVENT
END:VCALENDAR