BEGIN:VCALENDAR
VERSION:2.0
PRODID:GlueUp
CALSCALE:GREGORIAN
BEGIN:VTIMEZONE
TZID:UTC
BEGIN:STANDARD
DTSTART:19700101T000000
TZOFFSETFROM:+0000
TZOFFSETTO:+0000
TZNAME:UTC
END:STANDARD
END:VTIMEZONE
BEGIN:VEVENT
TZ:+00
ORGANIZER;CN=Ruiqing Fan:MAILTO:rqfan@wta-web.org
UID:39010-1777038904@https://wta.glueup.cn
DTSTAMP:20260424T135504Z
DTSTART:20230223T010500Z
DTEND:20230225T120000Z
SUMMARY:WTA·Xianghu Dialogue 2022
DESCRIPTION:WTA·Xianghu Dialogue 2022 by World Tourism Alliance\n\nFeb 23 - 25, 2023(GMT+8)\n\nFor more information, click here: https://wta.glueup.cn/my/events/39010
LOCATION:Sofitel Hangzhou Yingguan - 485 Mingxing Road - Xiaoshan District Hangzhou - China - China
BEGIN:VALARM
TRIGGER:-PT48H
REPEAT:4
DURATION:PT30M
ACTION:DISPLAY
END:VALARM
END:VEVENT
END:VCALENDAR