BEGIN:VCALENDAR
VERSION:2.0
PRODID:GlueUp
CALSCALE:GREGORIAN
BEGIN:VTIMEZONE
TZID:UTC
BEGIN:STANDARD
DTSTART:19700101T000000
TZOFFSETFROM:+0000
TZOFFSETTO:+0000
TZNAME:UTC
END:STANDARD
END:VTIMEZONE
BEGIN:VEVENT
TZ:+00
ORGANIZER;CN=王鑫磊:MAILTO:xlwang@wta-web.org
UID:39826-1777038951@https://wta.glueup.cn
DTSTAMP:20260424T135551Z
DTSTART:20230425T160001Z
DTEND:20230427T160001Z
SUMMARY:2023世界旅游联盟·丝路对话
DESCRIPTION:世界旅游联盟发布活动2023世界旅游联盟·丝路对话\n\n四月 26 - 28，2023(GMT+8)\n\n更多信息，访问https://wta.glueup.cn/my/events/39826
LOCATION:张掖宾馆 - 中国甘肃省张掖甘肃省张掖市甘州区滨河大道8号
BEGIN:VALARM
TRIGGER:-PT48H
REPEAT:4
DURATION:PT30M
ACTION:DISPLAY
END:VALARM
END:VEVENT
END:VCALENDAR