BEGIN:VCALENDAR
VERSION:2.0
PRODID:GlueUp
CALSCALE:GREGORIAN
BEGIN:VTIMEZONE
TZID:UTC
BEGIN:STANDARD
DTSTART:19700101T000000
TZOFFSETFROM:+0000
TZOFFSETTO:+0000
TZNAME:UTC
END:STANDARD
END:VTIMEZONE
BEGIN:VEVENT
TZ:+00
ORGANIZER;CN=Brick Zhao:MAILTO:brick@wta-web.org
UID:23515-1777039126@https://wta.glueup.cn
DTSTAMP:20260424T135846Z
DTSTART:20191106T060000Z
DTEND:20191106T094000Z
SUMMARY:China International Import Expo (CIIE) 2019  Forum Session
DESCRIPTION:China International Import Expo (CIIE) 2019  Forum Session by World Tourism Alliance\n\nNov 6, 2019 (14:00 - 17:40)(GMT+8)\n\nFor more information, click here: https://wta.glueup.cn/my/events/23515
LOCATION:National Exhibition and Convention Center - No. 168 East Yinggang Road - Shanghai - China Shanghai - China
BEGIN:VALARM
TRIGGER:-PT48H
REPEAT:4
DURATION:PT30M
ACTION:DISPLAY
END:VALARM
END:VEVENT
END:VCALENDAR