BEGIN:VCALENDAR
VERSION:2.0
PRODID:GlueUp
CALSCALE:GREGORIAN
BEGIN:VTIMEZONE
TZID:UTC
BEGIN:STANDARD
DTSTART:19700101T000000
TZOFFSETFROM:+0000
TZOFFSETTO:+0000
TZNAME:UTC
END:STANDARD
END:VTIMEZONE
BEGIN:VEVENT
TZ:+00
ORGANIZER;CN=Ruiqing Fan:MAILTO:rqfan@wta-web.org
UID:21466-1777039010@https://wta.glueup.cn
DTSTAMP:20260424T135650Z
DTSTART:20190507T010000Z
DTEND:20190508T110000Z
SUMMARY:WTA会员日 2019季第二期 · 鄂旅投集团 · 2019年5月7-8日
DESCRIPTION:World Tourism Alliance发布活动WTA会员日 2019季第二期 · 鄂旅投集团 · 2019年5月7-8日\n\n2019年05月07日，2019年05月08日(GMT+8)\n\n更多信息，访问https://wta.glueup.cn/my/events/21466
LOCATION:女儿寨度假酒店 - 中国湖北省恩施土家族苗族自治州恩施大峡谷风景旅游区
BEGIN:VALARM
TRIGGER:-PT48H
REPEAT:4
DURATION:PT30M
ACTION:DISPLAY
END:VALARM
END:VEVENT
END:VCALENDAR