BEGIN:VCALENDAR
VERSION:2.0
PRODID:GlueUp
CALSCALE:GREGORIAN
BEGIN:VTIMEZONE
TZID:UTC
BEGIN:STANDARD
DTSTART:19700101T000000
TZOFFSETFROM:+0000
TZOFFSETTO:+0000
TZNAME:UTC
END:STANDARD
END:VTIMEZONE
BEGIN:VEVENT
TZ:+00
ORGANIZER;CN=王鑫磊:MAILTO:xlwang@wta-web.org
UID:32345-1777039079@https://wta.glueup.cn
DTSTAMP:20260424T135759Z
DTSTART:20210720T160001Z
DTEND:20210722T160001Z
SUMMARY:WTA会员日 2021季第一期·中国哈尔滨·2021年7月21-22日
DESCRIPTION:世界旅游联盟发布活动WTA会员日 2021季第一期·中国哈尔滨·2021年7月21-22日\n\n七月 21 - 23，2021(GMT+8)\n\n更多信息，访问https://wta.glueup.cn/my/events/32345
LOCATION:哈尔滨松北香格里拉大酒店 - 中国黑龙江省哈尔滨市
BEGIN:VALARM
TRIGGER:-PT48H
REPEAT:4
DURATION:PT30M
ACTION:DISPLAY
END:VALARM
END:VEVENT
END:VCALENDAR