BEGIN:VCALENDAR
VERSION:2.0
PRODID:GlueUp
CALSCALE:GREGORIAN
BEGIN:VTIMEZONE
TZID:UTC
BEGIN:STANDARD
DTSTART:19700101T000000
TZOFFSETFROM:+0000
TZOFFSETTO:+0000
TZNAME:UTC
END:STANDARD
END:VTIMEZONE
BEGIN:VEVENT
TZ:+00
ORGANIZER;CN=Ruiqing Fan:MAILTO:rqfan@wta-web.org
UID:25317-1777038945@https://wta.glueup.cn
DTSTAMP:20260424T135545Z
DTSTART:20200217T160001Z
DTEND:20200220T100000Z
SUMMARY:WTA Member's Day E1S2020 with  Guangzhou Municipal Culture, Radio, Television and Tourism Bureau,February 18-20,2020
DESCRIPTION:WTA Member's Day E1S2020 with  Guangzhou Municipal Culture, Radio, Television and Tourism Bureau,February 18-20,2020 by World Tourism Alliance\n\nFeb 18 - 20, 2020(GMT+8)\n\nFor more information, click here: https://wta.glueup.cn/my/events/25317
LOCATION:Shangri-La Hotel Guangzhou - 1 Hui Zhan Dong Road,Hai Zhu District Guangzhou - Guangdong - China
BEGIN:VALARM
TRIGGER:-PT48H
REPEAT:4
DURATION:PT30M
ACTION:DISPLAY
END:VALARM
END:VEVENT
END:VCALENDAR