BEGIN:VCALENDAR
VERSION:2.0
PRODID:GlueUp
CALSCALE:GREGORIAN
BEGIN:VTIMEZONE
TZID:UTC
BEGIN:STANDARD
DTSTART:19700101T000000
TZOFFSETFROM:+0000
TZOFFSETTO:+0000
TZNAME:UTC
END:STANDARD
END:VTIMEZONE
BEGIN:VEVENT
TZ:+00
ORGANIZER;CN=王鑫磊:MAILTO:xlwang@wta-web.org
UID:30866-1777039043@https://wta.glueup.cn
DTSTAMP:20260424T135723Z
DTSTART:20210420T020000Z
DTEND:20210423T100000Z
SUMMARY:世界旅游联盟城市旅游对话—打造区域旅游辐射中心
DESCRIPTION:World Tourism Alliance发布活动世界旅游联盟城市旅游对话—打造区域旅游辐射中心\n\n四月 20 - 23，2021(GMT+8)\n\n更多信息，访问https://wta.glueup.cn/my/events/30866
LOCATION:郑州国际会展中心 - 中国河南省郑州市商务内环路中央公园1号
BEGIN:VALARM
TRIGGER:-PT48H
REPEAT:4
DURATION:PT30M
ACTION:DISPLAY
END:VALARM
END:VEVENT
END:VCALENDAR