BEGIN:VCALENDAR
VERSION:2.0
PRODID:GlueUp
CALSCALE:GREGORIAN
BEGIN:VTIMEZONE
TZID:UTC
BEGIN:STANDARD
DTSTART:19700101T000000
TZOFFSETFROM:+0000
TZOFFSETTO:+0000
TZNAME:UTC
END:STANDARD
END:VTIMEZONE
BEGIN:VEVENT
TZ:+00
ORGANIZER;CN=王鑫磊:MAILTO:xlwang@wta-web.org
UID:35487-1777038798@https://wta.glueup.cn
DTSTAMP:20260424T135318Z
DTSTART:20220426T160001Z
DTEND:20220427T160001Z
SUMMARY:乡村振兴现场分享会
DESCRIPTION:世界旅游联盟发布活动乡村振兴现场分享会\n\n2022年04月27日，2022年04月28日(GMT+8)\n\n更多信息，访问https://wta.glueup.cn/my/events/35487
LOCATION:大邑县南岸美村 - 中国四川省成都市
BEGIN:VALARM
TRIGGER:-PT48H
REPEAT:4
DURATION:PT30M
ACTION:DISPLAY
END:VALARM
END:VEVENT
END:VCALENDAR