BEGIN:VCALENDAR
VERSION:2.0
PRODID:GlueUp
CALSCALE:GREGORIAN
BEGIN:VTIMEZONE
TZID:UTC
BEGIN:STANDARD
DTSTART:19700101T000000
TZOFFSETFROM:+0000
TZOFFSETTO:+0000
TZNAME:UTC
END:STANDARD
END:VTIMEZONE
BEGIN:VEVENT
TZ:+00
ORGANIZER;CN=王鑫磊:MAILTO:xlwang@wta-web.org
UID:30689-1777038955@https://wta.glueup.cn
DTSTAMP:20260424T135555Z
DTSTART:20210323T013000Z
DTEND:20210323T083000Z
SUMMARY:旅游行业抵制野生动植物非法贸易自律公约倡议活动
DESCRIPTION:旅游行业抵制野生动植物非法贸易自律公约倡议活动 by World Tourism Alliance\n\nMar 23, 2021 (09:30 - 16:30)(GMT+8)\n\nFor more information, click here: https://wta.glueup.cn/my/events/30689
LOCATION:北京西苑饭店鸿运厅 - 中国北京海淀区三里河路1号 北京 - China
BEGIN:VALARM
TRIGGER:-PT48H
REPEAT:4
DURATION:PT30M
ACTION:DISPLAY
END:VALARM
END:VEVENT
END:VCALENDAR