BEGIN:VCALENDAR
VERSION:2.0
PRODID:GlueUp
CALSCALE:GREGORIAN
BEGIN:VTIMEZONE
TZID:UTC
BEGIN:STANDARD
DTSTART:19700101T000000
TZOFFSETFROM:+0000
TZOFFSETTO:+0000
TZNAME:UTC
END:STANDARD
END:VTIMEZONE
BEGIN:VEVENT
TZ:+00
ORGANIZER;CN=王鑫磊:MAILTO:xlwang@wta-web.org
UID:37183-1777038957@https://wta.glueup.cn
DTSTAMP:20260424T135557Z
DTSTART:20220917T000000Z
DTEND:20220919T160001Z
SUMMARY:第三届大河文明旅游论坛——世界旅游联盟 · 黄河对话
DESCRIPTION:World Tourism Alliance发布活动第三届大河文明旅游论坛——世界旅游联盟 · 黄河对话\n\n9月 17 - 20，2022(GMT+8)\n\n更多信息，访问https://wta.glueup.cn/my/events/37183
LOCATION:山西省临汾市云丘山景区 - 中国山西省临汾市大河村
BEGIN:VALARM
TRIGGER:-PT48H
REPEAT:4
DURATION:PT30M
ACTION:DISPLAY
END:VALARM
END:VEVENT
END:VCALENDAR