BEGIN:VCALENDAR
VERSION:2.0
PRODID:GlueUp
CALSCALE:GREGORIAN
BEGIN:VTIMEZONE
TZID:UTC
BEGIN:STANDARD
DTSTART:19700101T000000
TZOFFSETFROM:+0000
TZOFFSETTO:+0000
TZNAME:UTC
END:STANDARD
END:VTIMEZONE
BEGIN:VEVENT
TZ:+00
ORGANIZER;CN=Ruiqing Fan:MAILTO:rqfan@wta-web.org
UID:27969-1777038956@https://wta.glueup.cn
DTSTAMP:20260424T135556Z
DTSTART:20200918T000000Z
DTEND:20200921T100000Z
SUMMARY:第二届大河文明旅游论坛暨世界旅游联盟•黄河对话
DESCRIPTION:World Tourism Alliance发布活动第二届大河文明旅游论坛暨世界旅游联盟•黄河对话\n\n9月 18 - 21，2020(GMT+8)\n\n更多信息，访问https://wta.glueup.cn/my/events/27969
LOCATION:云之上会议中心 - 中国山西省临汾市乡宁县云丘山景区
BEGIN:VALARM
TRIGGER:-PT48H
REPEAT:4
DURATION:PT30M
ACTION:DISPLAY
END:VALARM
END:VEVENT
END:VCALENDAR